BEGIN:VCALENDAR
VERSION:2.0
PRODID:-//Église Protestante Unie de Lyon-Terreaux - ECPv4.9.2//NONSGML v1.0//EN
CALSCALE:GREGORIAN
METHOD:PUBLISH
X-WR-CALNAME:Église Protestante Unie de Lyon-Terreaux
X-ORIGINAL-URL:https://www.templelanterne.fr
X-WR-CALDESC:Évènements pour Église Protestante Unie de Lyon-Terreaux
BEGIN:VEVENT
DTSTART;TZID=Europe/Paris:20201119T180000
DTEND;TZID=Europe/Paris:20201119T200000
DTSTAMP:20260420T062223
CREATED:20190914T155514Z
LAST-MODIFIED:20201031T122655Z
UID:14456-1605808800-1605816000@www.templelanterne.fr
SUMMARY:Approche théologique (ANNULÉ)
DESCRIPTION:ANNULÉ \nGroupe de réflexion théologique. Sonnez à la porte à gauche de l’entrée principale du temple. 
URL:https://www.templelanterne.fr/event/approche-theologique-2020-11-19/
LOCATION:Temple Lanterne\, 10\, rue Lanterne\, Lyon\, 69001\, France
CATEGORIES:Paroisse,Réflexion théologique
ATTACH;FMTTYPE=image/jpeg:https://www.templelanterne.fr/wp-content/uploads/2019/09/martin-luther-2357004_1920.jpg
END:VEVENT
END:VCALENDAR